BEGIN:VCALENDAR
VERSION:2.0
PRODID:-//Brent International School Subic - ECPv6.15.20//NONSGML v1.0//EN
CALSCALE:GREGORIAN
METHOD:PUBLISH
X-WR-CALNAME:Brent International School Subic
X-ORIGINAL-URL:https://www.brentsubic.edu.ph/home
X-WR-CALDESC:Events for Brent International School Subic
REFRESH-INTERVAL;VALUE=DURATION:PT1H
X-Robots-Tag:noindex
X-PUBLISHED-TTL:PT1H
BEGIN:VTIMEZONE
TZID:Asia/Manila
BEGIN:STANDARD
TZOFFSETFROM:+0800
TZOFFSETTO:+0800
TZNAME:PST
DTSTART:20220101T000000
END:STANDARD
END:VTIMEZONE
BEGIN:VEVENT
DTSTART;TZID=Asia/Manila:20241129T180000
DTEND;TZID=Asia/Manila:20241129T203000
DTSTAMP:20260420T162105
CREATED:20241118T043215Z
LAST-MODIFIED:20241118T043215Z
UID:5923-1732903200-1732912200@www.brentsubic.edu.ph
SUMMARY:Christmas Concert & Art Exhibit 2024
DESCRIPTION:We are excited to inform you about our upcoming Christmas Concert and Art Exhibition\, which will take place on Friday\, November 29 at 6:30 PM. This event promises to be a celebration of the creative talents and hard work of our students. \nThe Christmas Concert and Art Exhibition is a special occasion that allows our students to showcase their artistic talents and musical abilities. We believe that the Arts are an essential part of a well-rounded education\, and this event is an opportunity for our students to share their achievements with you. \nOne significant aspect of this event is the oral presentation of their artwork. This presentation is an essential part of our curriculum\, and it is mandatory for all art students to participate. The presentation provides a chance to express their artistic ideas\, influences\, and techniques to an audience\, and it is a valuable skill that they will carry with them throughout their lives. \nCall Time: 6:00 PM at the MPH. \nWe look forward to seeing you at this event to support your child’s artistic endeavors. It’s a great opportunity to connect with other parents and celebrate the achievements of our talented students. \nThank you for your continued support\, and we can’t wait to celebrate our students’ creativity with you at the Christmas Concert and Art Exhibition.
URL:https://www.brentsubic.edu.ph/home/event/christmas-concert-art-exhibit-2024/
LOCATION:MPH
CATEGORIES:Brent Subic Events
ATTACH;FMTTYPE=image/webp:https://www.brentsubic.edu.ph/home/wp-content/uploads/2024/11/112924_xmasconcert.webp
END:VEVENT
BEGIN:VEVENT
DTSTART;TZID=Asia/Manila:20241127T151500
DTEND;TZID=Asia/Manila:20241127T180000
DTSTAMP:20260420T162105
CREATED:20241113T003048Z
LAST-MODIFIED:20241118T045355Z
UID:5739-1732720500-1732730400@www.brentsubic.edu.ph
SUMMARY:Tree Lighting Ceremony 2024
DESCRIPTION:It’s a Pajama Party!\nTree Lighting Ceremony 2024\nNovember 27\, 2024\n3:15PM to 6:00PM
URL:https://www.brentsubic.edu.ph/home/event/tree-lighting-ceremony-2024/
LOCATION:Brent School Grounds
CATEGORIES:Brent Subic Events
ATTACH;FMTTYPE=image/webp:https://www.brentsubic.edu.ph/home/wp-content/uploads/2024/11/112724_treelighting.webp
END:VEVENT
BEGIN:VEVENT
DTSTART;TZID=Asia/Manila:20241122T091500
DTEND;TZID=Asia/Manila:20241122T101500
DTSTAMP:20260420T162105
CREATED:20241111T022433Z
LAST-MODIFIED:20241111T022433Z
UID:5731-1732266900-1732270500@www.brentsubic.edu.ph
SUMMARY:House Cross Country 2024
DESCRIPTION:House Cross Country\nNovember 22\, 2024 | Friday\n9:15AM\nSoccer Field
URL:https://www.brentsubic.edu.ph/home/event/house-cross-country-2024/
LOCATION:Soccer Field
CATEGORIES:Brent Subic Events
ATTACH;FMTTYPE=image/webp:https://www.brentsubic.edu.ph/home/wp-content/uploads/2024/11/112224_xcountry.webp
END:VEVENT
BEGIN:VEVENT
DTSTART;TZID=Asia/Manila:20241115T173000
DTEND;TZID=Asia/Manila:20241115T193000
DTSTAMP:20260420T162105
CREATED:20241112T023625Z
LAST-MODIFIED:20241112T024403Z
UID:5735-1731691800-1731699000@www.brentsubic.edu.ph
SUMMARY:Movie Night 111524
DESCRIPTION:Movie Night\nNovember 15\, 2024\n5:30PM\nMPH
URL:https://www.brentsubic.edu.ph/home/event/movie-night-111524/
LOCATION:MPH
CATEGORIES:Brent Subic Events
ATTACH;FMTTYPE=image/webp:https://www.brentsubic.edu.ph/home/wp-content/uploads/2024/11/111524_stucomovie.webp
END:VEVENT
BEGIN:VEVENT
DTSTART;TZID=Asia/Manila:20241007T080000
DTEND;TZID=Asia/Manila:20241007T153000
DTSTAMP:20260420T162105
CREATED:20240923T022036Z
LAST-MODIFIED:20240923T022036Z
UID:5699-1728288000-1728315000@www.brentsubic.edu.ph
SUMMARY:PTC - October 7\, 2024
DESCRIPTION:Parents & Guardians: you are invited to our upcoming Parent-Teacher Conferences at Brent International School Subic on October 7th\, from 8:00 AM to 3:30 PM in the MPH. \nThis is a valuable opportunity for you to meet with your child’s teacher(s) and discuss their progress and learning. \nSign-up sheets for conference times will be posted from Monday\, September 30 – Thursday\, October 3rd on the campus bulletin board near the guard post. \nWe encourage your active participation in your child’s education\, and these conferences are an essential means of fostering collaboration between parents and teachers.
URL:https://www.brentsubic.edu.ph/home/event/ptc-october-7-2024/
LOCATION:MPH
CATEGORIES:Brent Subic Events
ATTACH;FMTTYPE=image/webp:https://www.brentsubic.edu.ph/home/wp-content/uploads/2024/09/100724_ptcsem1.webp
END:VEVENT
BEGIN:VEVENT
DTSTART;TZID=Asia/Manila:20240923T080000
DTEND;TZID=Asia/Manila:20240927T170000
DTSTAMP:20260420T162105
CREATED:20240918T010954Z
LAST-MODIFIED:20240918T011127Z
UID:5690-1727078400-1727456400@www.brentsubic.edu.ph
SUMMARY:Spirit Week 2024
DESCRIPTION:Hi Everyone! \nWe are excited to announce our upcoming Spirit Week! This is a fantastic opportunity for everyone to showcase our school spirit\, have some fun\, and come together as a community. It will be from September 23- 27. \nHere are the exciting themes we have planned for each day: \nMonday\, September 23: House Colors Azure vs Gold\nWear your House shirts or a blue/yellow shirt to proudly represent your house! You may also wear blue and yellow accessories to decorate your outfit! \n \nTuesday\, September 24: Twinning or Group Day\nGrab your best friend or a group of friends and dress alike! Whether you go for matching outfits or a creative group theme\, we want to see double (or triple) all around the school. Let’s see who can come up with the most original idea! \n \nWednesday\, September 25: Black and White Day\nIt’s all about contrast! Wear your coolest black and white outfits and show off how creative you can get with just two colors. Whether you choose a monochrome masterpiece or a bold pattern\, make sure to rock that black-and-white style! \n \nThursday\, September 26: Throwback Day\nTravel back in time with your favorite throwback outfit! Whether it’s the groovy 70s\, the neon 80s\, the grunge 90s\, or any era you love\, show off your vintage vibes. Let’s bring a little bit of history into the present! \n \nFriday\, September 27 – Philippine Day\nMabuhay! You may wear the traditional Filipino Barong Tagalog\, Baro’t Saya\, or simply the colors of the Philippine flag. You can even wear a Subic\, Boracay\, Baguio or a shirt from a place in the Philippines you have visited. \n \nWe encourage everyone to participate and make this Spirit Week unforgettable! Let’s have some fun\, show off our creativity\, and celebrate our school spirit together. Can’t wait to see all your amazing outfits! \nNote: Please be mindful that your outfits/costumes must be school-appropriate.
URL:https://www.brentsubic.edu.ph/home/event/spirit-week-2024/
LOCATION:Brent School Grounds
CATEGORIES:Brent Subic Events
ATTACH;FMTTYPE=image/webp:https://www.brentsubic.edu.ph/home/wp-content/uploads/2024/09/092324_spiritweek.webp
END:VEVENT
BEGIN:VEVENT
DTSTART;TZID=Asia/Manila:20240828T091500
DTEND;TZID=Asia/Manila:20240828T101500
DTSTAMP:20260420T162105
CREATED:20240820T033923Z
LAST-MODIFIED:20240820T033923Z
UID:5664-1724836500-1724840100@www.brentsubic.edu.ph
SUMMARY:Opening Eucharist 2024
DESCRIPTION:Dear Parents and Guardians\, \nWe hope this message finds you and your family well. \nWe are pleased to invite you to our Opening Eucharist on Wednesday\, August 28th\, at 9:15 AM in the MPH. Eucharist is an opportunity for us to unite\, share in the spirit of the new school year\, and reaffirm our commitment to the values that define our school.  Your presence at this occasion will undoubtedly enrich the experience for all. \nWe look forward to welcoming you to this special event. \nBest regards\, \nTodd Wyks
URL:https://www.brentsubic.edu.ph/home/event/opening-eucharist-2024/
LOCATION:MPH
CATEGORIES:Brent Subic Events
ATTACH;FMTTYPE=image/webp:https://www.brentsubic.edu.ph/home/wp-content/uploads/2024/08/082824_eucharist.webp
END:VEVENT
BEGIN:VEVENT
DTSTART;TZID=Asia/Manila:20240521T183000
DTEND;TZID=Asia/Manila:20240521T200000
DTSTAMP:20260420T162105
CREATED:20240516T012336Z
LAST-MODIFIED:20240516T012336Z
UID:5424-1716316200-1716321600@www.brentsubic.edu.ph
SUMMARY:IB Night 2024
DESCRIPTION:We are happy to extend a warm invitation to this year’s IB Night\, Tuesday\, May 21 at 6:30 PM at the MPH. This special event is dedicated to honoring our International Baccalaureate (IB) students and their remarkable achievements. \nIB Night serves as a culmination of the commitment\, determination\, and hard work demonstrated by our IB students throughout the academic year. It is a significant occasion where we come together to celebrate their accomplishments and recognize the unique obstacles they have overcome in their IB journey. \nWe deeply appreciate your ongoing support and active involvement in our school community. Your contributions have played a vital role in the success of our IB students. We eagerly anticipate your presence at IB Night as we come together to honor and applaud their achievements. \nWe look forward to welcoming you to this celebration of our IB students’ accomplishments.
URL:https://www.brentsubic.edu.ph/home/event/ib-night-2024/
LOCATION:MPH
ATTACH;FMTTYPE=image/webp:https://www.brentsubic.edu.ph/home/wp-content/uploads/2024/05/052124_ibnight.webp
END:VEVENT
BEGIN:VEVENT
DTSTART;TZID=Asia/Manila:20240513T083000
DTEND;TZID=Asia/Manila:20240513T093000
DTSTAMP:20260420T162105
CREATED:20240510T035109Z
LAST-MODIFIED:20240510T035109Z
UID:5420-1715589000-1715592600@www.brentsubic.edu.ph
SUMMARY:Science and Engineering Fair 2024
DESCRIPTION:The Science Department invites you to the Science and Engineering Fair\, which will be held at the MPH on Monday\, May 13\, 2024\, from 8:30 am to 9:30 am. This science event is a great opportunity to observe and interact with our young scientists\, as they will showcase their experimental or engineering design projects\, explain their thought processes\, and discuss their findings with you all. \nThe event will feature students from both grade 5 and grade 8 who have put in enormous effort and shown curiosity and a spirit of collaboration throughout this educational experience. We hope you will come ready to ask questions and engage with the students.
URL:https://www.brentsubic.edu.ph/home/event/science-and-engineering-fair-2024/
LOCATION:MPH
CATEGORIES:Brent Subic Events
ATTACH;FMTTYPE=image/webp:https://www.brentsubic.edu.ph/home/wp-content/uploads/2024/05/051324_scifair.webp
END:VEVENT
BEGIN:VEVENT
DTSTART;TZID=Asia/Manila:20240503T134500
DTEND;TZID=Asia/Manila:20240503T150000
DTSTAMP:20260420T162105
CREATED:20240426T061208Z
LAST-MODIFIED:20240426T061208Z
UID:5400-1714743900-1714748400@www.brentsubic.edu.ph
SUMMARY:Activity Awards 2023-2024
DESCRIPTION:May 3\, 2024\n1:45 PM\nMPH
URL:https://www.brentsubic.edu.ph/home/event/activity-awards-2023-2024/
LOCATION:MPH
CATEGORIES:Brent Subic Events
ATTACH;FMTTYPE=image/webp:https://www.brentsubic.edu.ph/home/wp-content/uploads/2024/04/050324_actawards.webp
END:VEVENT
BEGIN:VEVENT
DTSTART;TZID=Asia/Manila:20240408T134500
DTEND;TZID=Asia/Manila:20240408T150000
DTSTAMP:20260420T162105
CREATED:20240403T082847Z
LAST-MODIFIED:20240403T082847Z
UID:5391-1712583900-1712588400@www.brentsubic.edu.ph
SUMMARY:House Water Day
DESCRIPTION:Our final whole school house event\, Water Day\, will be held on Monday\, April 8\, at 1:45PM at the soccer field. \nPlease join us at the field in your gold and azure attire and celebrate another wonderful school year with our students. \nStudents should come to school on Water Day wearing their house shirt\, PE shorts and rubber shoes. Students can then change into slippers to wear at the field – rubber shoes are not encouraged at the field as everyone is going to get very wet! Students can also wear swimming attire under their house shirt and PE shorts if they like. \nOf course\, parents will be invited to join the much anticipated parent and faculty slip and slide frisbee toss at the end of the day. \nWe hope to see you all out at the field on Monday\, April 8\, 2024.
URL:https://www.brentsubic.edu.ph/home/event/house-water-day/
LOCATION:Soccer Field
CATEGORIES:Brent Subic Events
ATTACH;FMTTYPE=image/webp:https://www.brentsubic.edu.ph/home/wp-content/uploads/2024/04/040824_waterDay.webp
END:VEVENT
BEGIN:VEVENT
DTSTART;TZID=Asia/Manila:20240405T173000
DTEND;TZID=Asia/Manila:20240405T200000
DTSTAMP:20260420T162105
CREATED:20240326T002347Z
LAST-MODIFIED:20240326T002347Z
UID:5384-1712338200-1712347200@www.brentsubic.edu.ph
SUMMARY:NHS Game Night
DESCRIPTION:Video Game Night is an event where Upperschool students can take a break and hangout\, bonding with each other over videogames and board games. \nApril 5\, 2024\n5:30PM – 8:00PM
URL:https://www.brentsubic.edu.ph/home/event/nhs-game-night/
LOCATION:MPH
CATEGORIES:Brent Subic Events
ATTACH;FMTTYPE=image/webp:https://www.brentsubic.edu.ph/home/wp-content/uploads/2024/03/040524_gamenight.webp
END:VEVENT
BEGIN:VEVENT
DTSTART;TZID=Asia/Manila:20240403T091500
DTEND;TZID=Asia/Manila:20240403T101500
DTSTAMP:20260420T162105
CREATED:20240322T065902Z
LAST-MODIFIED:20240402T233739Z
UID:5380-1712135700-1712139300@www.brentsubic.edu.ph
SUMMARY:Easter Eucharist
DESCRIPTION:Dear Parents\, \nWe cordially invite you to join us for a special Easter Eucharist on Wednesday\, April 3\, 2024\, from 9:15AM to 10:15AM at the MPH. \nThis service will provide an opportunity for our school community to come together in celebration of Easter. We kindly request your presence as we gather to reflect on the significance of this joyous season. \nAs we approach the Easter Break\, we wish you and your families a peaceful and restful holiday filled with love and rejuvenation. \nBest regards\, \nTodd Wyks
URL:https://www.brentsubic.edu.ph/home/event/easter-eucharist/
LOCATION:MPH
CATEGORIES:Brent Subic Events
ATTACH;FMTTYPE=image/webp:https://www.brentsubic.edu.ph/home/wp-content/uploads/2024/03/040324_easterEucharist.webp
END:VEVENT
BEGIN:VEVENT
DTSTART;TZID=Asia/Manila:20240321T180000
DTEND;TZID=Asia/Manila:20240322T200000
DTSTAMP:20260420T162105
CREATED:20240320T014137Z
LAST-MODIFIED:20240320T014137Z
UID:5340-1711044000-1711137600@www.brentsubic.edu.ph
SUMMARY:MS/US Production - Beauty and the Beast Jr.
DESCRIPTION:Our middle and upper school students have been hard at work for the past two months preparing for the upcoming MS/US Production of Beauty and the Beast Jr. \nThe show will be held in the MPH on Thursday\, March 21\, and Friday\, March 22\, starting at 6:30PM. Tickets cost P250 per head and can be purchased now at the bookstore. Tickets can also be purchased at the door on Thursday and Friday evening. \nPlease join us on March 21 and 22 and support our talented MS/US students as they showcase their singing and acting abilities.
URL:https://www.brentsubic.edu.ph/home/event/ms-us-production-beauty-and-the-beast-jr/
LOCATION:MPH
CATEGORIES:Brent Subic Events
ATTACH;FMTTYPE=image/webp:https://www.brentsubic.edu.ph/home/wp-content/uploads/2024/03/032124_beautyndbeast.webp
END:VEVENT
BEGIN:VEVENT
DTSTART;VALUE=DATE:20240318
DTEND;VALUE=DATE:20240319
DTSTAMP:20260420T162105
CREATED:20240307T065318Z
LAST-MODIFIED:20240307T065318Z
UID:5307-1710720000-1710806399@www.brentsubic.edu.ph
SUMMARY:Visiting Author 2024
DESCRIPTION:Award-winning British/Australian illustrator\, writer (children’s books\, crime fiction\, screenwriting)\, producer\, and performer\, Dr. Martin Chatterton has been working in the creative industries for over thirty years. He has written many children’s books and illustrated more than a hundred more\, working with publishing legends.
URL:https://www.brentsubic.edu.ph/home/event/visiting-author-2024/
CATEGORIES:Brent Subic Events
ATTACH;FMTTYPE=image/webp:https://www.brentsubic.edu.ph/home/wp-content/uploads/2024/03/031824_author.webp
END:VEVENT
BEGIN:VEVENT
DTSTART;VALUE=DATE:20240304
DTEND;VALUE=DATE:20240305
DTSTAMP:20260420T162105
CREATED:20240219T074947Z
LAST-MODIFIED:20240219T075101Z
UID:5284-1709510400-1709596799@www.brentsubic.edu.ph
SUMMARY:Parent Teacher Conferences March 4\, 2024
DESCRIPTION:Parents & Guardians\, you are invited to our upcoming Parent-Teacher Conferences at Brent International School Subic on March 4\, from 8:00 AM to 3:30 PM in the MPH. \nThis is a valuable opportunity for you to meet with your child’s teacher(s) and discuss their progress and learning. \nSign-up sheets for conference times will be posted February 26 – March 1 on the campus bulletin board near the guard post. \nWe encourage your active participation in your child’s education\, and these conferences are an essential means of fostering collaboration between parents and teachers.
URL:https://www.brentsubic.edu.ph/home/event/parent-teacher-conferences-march-4-2024/
LOCATION:MPH
CATEGORIES:Brent Subic Events
ATTACH;FMTTYPE=image/webp:https://www.brentsubic.edu.ph/home/wp-content/uploads/2024/02/030424_ptc.webp
END:VEVENT
BEGIN:VEVENT
DTSTART;VALUE=DATE:20240302
DTEND;VALUE=DATE:20240303
DTSTAMP:20260420T162105
CREATED:20240228T003338Z
LAST-MODIFIED:20240228T010028Z
UID:5294-1709337600-1709423999@www.brentsubic.edu.ph
SUMMARY:International Food Festival 2024
DESCRIPTION:Please join us for the International Food Festival this Saturday\, March 2\, 2024 starting at 6PM at the soccer field. This event is open to everyone! \nTickets are on sale now at the bookstore. If you purchase at the bookstore before the event\, you will receive a P50 discount per ticket. Tickets will also be available on entry on Saturday evening. \nPlease join us as we celebrate our vibrant community. There will be fun games\, outstanding performances\, and of course\, delicious food prepared by our hard working country teams.
URL:https://www.brentsubic.edu.ph/home/event/international-food-festival-2024/
LOCATION:Soccer Field
CATEGORIES:Brent Subic Events
ATTACH;FMTTYPE=image/webp:https://www.brentsubic.edu.ph/home/wp-content/uploads/2024/02/030224_iff.webp
END:VEVENT
BEGIN:VEVENT
DTSTART;TZID=Asia/Manila:20240219T135000
DTEND;TZID=Asia/Manila:20240219T160000
DTSTAMP:20260420T162105
CREATED:20240214T060758Z
LAST-MODIFIED:20240214T060827Z
UID:5279-1708350600-1708358400@www.brentsubic.edu.ph
SUMMARY:House Field Day 2024
DESCRIPTION:House Field Day will be held on Monday\, February 19 starting at 1:50PM at the field. \nOn Monday\, all students should come to school wearing their house shirts\, PE shorts\, and rubber shoes. \nParents are invited to watch the House Field Day activities and encouraged to join the faculty/parent relay at the end of the day.
URL:https://www.brentsubic.edu.ph/home/event/house-field-day-2024/
LOCATION:Soccer Field
CATEGORIES:Brent Subic Events
ATTACH;FMTTYPE=image/webp:https://www.brentsubic.edu.ph/home/wp-content/uploads/2024/02/021924_housefieldday.webp
END:VEVENT
BEGIN:VEVENT
DTSTART;VALUE=DATE:20240214
DTEND;VALUE=DATE:20240215
DTSTAMP:20260420T162105
CREATED:20240209T142028Z
LAST-MODIFIED:20240209T142028Z
UID:5276-1707868800-1707955199@www.brentsubic.edu.ph
SUMMARY:Ash Wednesday 2024
DESCRIPTION:Dear Brent Community \nYou are cordially invited to join us for a special Ash Wednesday Eucharist Service\, where we will gather to mark the beginning of the Lenten season. This sacred occasion will be held on February 14th at 9:15 AM in the MPH. We look forward to coming together as a community to reflect\, pray\, and receive the imposition of ashes. We hope that you can join us in this meaningful observance. \nBest regards \nTodd Wyks
URL:https://www.brentsubic.edu.ph/home/event/ash-wednesday-2024/
LOCATION:MPH
CATEGORIES:Brent Subic Events
ATTACH;FMTTYPE=image/webp:https://www.brentsubic.edu.ph/home/wp-content/uploads/2024/02/021424_ashwed.webp
END:VEVENT
BEGIN:VEVENT
DTSTART;TZID=Asia/Manila:20240125T050000
DTEND;TZID=Asia/Manila:20240127T190000
DTSTAMP:20260420T162105
CREATED:20240114T234905Z
LAST-MODIFIED:20240124T015921Z
UID:5211-1706158800-1706382000@www.brentsubic.edu.ph
SUMMARY:ISAC 2024
DESCRIPTION:ISAC Website\nBoys’ Football and Girls’ Basketball\nJanuary 25 – 27\, 2024
URL:https://www.brentsubic.edu.ph/home/event/isac-2024/
LOCATION:Brent School Grounds
CATEGORIES:Brent Subic Events
ATTACH;FMTTYPE=image/webp:https://www.brentsubic.edu.ph/home/wp-content/uploads/2024/01/011524_isac.webp
END:VEVENT
BEGIN:VEVENT
DTSTART;TZID=Asia/Manila:20231213T180000
DTEND;TZID=Asia/Manila:20231214T190000
DTSTAMP:20260420T162105
CREATED:20231116T031733Z
LAST-MODIFIED:20231120T011044Z
UID:5149-1702490400-1702580400@www.brentsubic.edu.ph
SUMMARY:A Christmas Carol
DESCRIPTION:A Lower School Christmas Production\nDecember 13 and 14\, 2023\nBrent Subic MPH | 6:00PM\nTicket Price: Php 150.00
URL:https://www.brentsubic.edu.ph/home/event/a-christmas-carol/
LOCATION:MPH
CATEGORIES:Brent Subic Events
ATTACH;FMTTYPE=image/webp:https://www.brentsubic.edu.ph/home/wp-content/uploads/2023/11/121323_lsprod.webp
END:VEVENT
BEGIN:VEVENT
DTSTART;VALUE=DATE:20231206
DTEND;VALUE=DATE:20231215
DTSTAMP:20260420T162105
CREATED:20231116T024902Z
LAST-MODIFIED:20231116T024902Z
UID:5146-1701820800-1702598399@www.brentsubic.edu.ph
SUMMARY:Lower School Art Exhibit
DESCRIPTION:Lower School Art Exhibit\nDecember 6 – December 14\nAtrium
URL:https://www.brentsubic.edu.ph/home/event/lower-school-art-exhibit/
LOCATION:Atrium
CATEGORIES:Brent Subic Events
ATTACH;FMTTYPE=image/webp:https://www.brentsubic.edu.ph/home/wp-content/uploads/2023/11/120623_lsart.webp
END:VEVENT
BEGIN:VEVENT
DTSTART;TZID=Asia/Manila:20231201T183000
DTEND;TZID=Asia/Manila:20231201T203000
DTSTAMP:20260420T162105
CREATED:20231116T020704Z
LAST-MODIFIED:20231116T020755Z
UID:5142-1701455400-1701462600@www.brentsubic.edu.ph
SUMMARY:Christmas Concert
DESCRIPTION:Christmas Concert\nDecember 1\, 2023\n6:30 – 8:30 PM\nMPH
URL:https://www.brentsubic.edu.ph/home/event/christmas-concert/
LOCATION:MPH
CATEGORIES:Brent Subic Events
ATTACH;FMTTYPE=image/webp:https://www.brentsubic.edu.ph/home/wp-content/uploads/2023/11/120123_concert.webp
END:VEVENT
BEGIN:VEVENT
DTSTART;TZID=Asia/Manila:20231129T151500
DTEND;TZID=Asia/Manila:20231129T180000
DTSTAMP:20260420T162105
CREATED:20231115T031407Z
LAST-MODIFIED:20231116T000918Z
UID:5117-1701270900-1701280800@www.brentsubic.edu.ph
SUMMARY:Tree Lighting Ceremony and Activities
DESCRIPTION:The Lower School Student Council presents the Christmas Tree Lighting Ceremony on Wednesday\, November 29\, 2023 @ 3:15-6:00PM.
URL:https://www.brentsubic.edu.ph/home/event/tree-lighting-ceremony-and-activities/
LOCATION:Brent School Grounds
CATEGORIES:Brent Subic Events
ATTACH;FMTTYPE=image/webp:https://www.brentsubic.edu.ph/home/wp-content/uploads/2023/11/112923_treeLighting.webp
END:VEVENT
BEGIN:VEVENT
DTSTART;VALUE=DATE:20231128
DTEND;VALUE=DATE:20231206
DTSTAMP:20260420T162105
CREATED:20231115T235622Z
LAST-MODIFIED:20231116T021818Z
UID:5131-1701129600-1701820799@www.brentsubic.edu.ph
SUMMARY:Middle & Upper School Art Exhibit
DESCRIPTION:Middle & Upper School Art Exhibit\nNovember 28 – December 5\nBrent Subic Atrium
URL:https://www.brentsubic.edu.ph/home/event/middle-upper-school-art-exhibit/
LOCATION:Atrium
CATEGORIES:Brent Subic Events
ATTACH;FMTTYPE=image/webp:https://www.brentsubic.edu.ph/home/wp-content/uploads/2023/11/112823_msusart.webp
END:VEVENT
BEGIN:VEVENT
DTSTART;TZID=Asia/Manila:20231124T161500
DTEND;TZID=Asia/Manila:20231124T180000
DTSTAMP:20260420T162105
CREATED:20231115T030954Z
LAST-MODIFIED:20231116T001309Z
UID:5113-1700842500-1700848800@www.brentsubic.edu.ph
SUMMARY:STS Movie Night
DESCRIPTION:STS Movie Night\n4:15 – 6:00PM\nMPH
URL:https://www.brentsubic.edu.ph/home/event/sts-movie-night/
LOCATION:MPH
CATEGORIES:Brent Subic Events
ATTACH;FMTTYPE=image/webp:https://www.brentsubic.edu.ph/home/wp-content/uploads/2023/11/112423_movienight.webp
END:VEVENT
BEGIN:VEVENT
DTSTART;TZID=Asia/Manila:20231124T091500
DTEND;TZID=Asia/Manila:20231124T101500
DTSTAMP:20260420T162105
CREATED:20231116T082632Z
LAST-MODIFIED:20231120T010920Z
UID:5153-1700817300-1700820900@www.brentsubic.edu.ph
SUMMARY:House Cross Country
DESCRIPTION:I would like to invite all members of the Brent Community to join us at the soccer field on Friday November 24\, 2023 at 9:15am for our annual House Cross Country. \nParents\, faculty and staff – don’t forget to wear your running outfits so you can join the parent\, faculty/staff race for the chance to win your very own house cross country ribbon! \nI hope to see you all at the field on Friday November 24\, 2023 at 9:15 – 10:15am. \nMichelle Almanzor\nDirector for Student Services and Activities
URL:https://www.brentsubic.edu.ph/home/event/house-cross-country/
LOCATION:Soccer Field
CATEGORIES:Brent Subic Events
ATTACH;FMTTYPE=image/webp:https://www.brentsubic.edu.ph/home/wp-content/uploads/2023/11/112423_housexcountry.webp
END:VEVENT
BEGIN:VEVENT
DTSTART;TZID=Asia/Manila:20231123T151500
DTEND;TZID=Asia/Manila:20231123T161500
DTSTAMP:20260420T162105
CREATED:20231115T024018Z
LAST-MODIFIED:20231120T010841Z
UID:5107-1700752500-1700756100@www.brentsubic.edu.ph
SUMMARY:Grade 10 IB Parent/Student Info Session
DESCRIPTION:You are invited to our Grade 10 IB Parent/Student Info Session on Thursday\, November 23\, 2023 at 3:15PM – 4:15PM. The info session will be held in the Middle/Upper School Library. \nWe look forward to meeting you! \nKeep safe and healthy. \nWarm regards\, \nMrs. Sheila Marie Griarte\nIB Coordinator
URL:https://www.brentsubic.edu.ph/home/event/grade-10-ib-parent-student-info-session-part-1/
LOCATION:MSUS Library
CATEGORIES:Brent Subic Events
ATTACH;FMTTYPE=image/webp:https://www.brentsubic.edu.ph/home/wp-content/uploads/2023/11/112323_ibinfosession.webp
END:VEVENT
BEGIN:VEVENT
DTSTART;VALUE=DATE:20231030
DTEND;VALUE=DATE:20231104
DTSTAMP:20260420T162105
CREATED:20231023T012000Z
LAST-MODIFIED:20231023T035035Z
UID:5064-1698624000-1699055999@www.brentsubic.edu.ph
SUMMARY:All Saints Break
DESCRIPTION:The All Saints Break begins on Monday\, October 30\, 2023 and runs through Friday\, November 3\, 2023. Students in grades 6-12 should note that when we return to school on Monday\, November 6th \, we will follow a Day 2 class schedule. \nIn addition\, parents of students in grades 8 to 12\, please note that semester exams will take place over the dates of December 13-15\, 2023. We ask that families please note our exam schedule and plan travel for dates after December 15th. Have a safe and restful All Saints Break.
URL:https://www.brentsubic.edu.ph/home/event/all-saints-break/
CATEGORIES:Brent Subic Events
ATTACH;FMTTYPE=image/jpeg:https://www.brentsubic.edu.ph/home/wp-content/uploads/2023/10/allsaintsbreak.jpg
END:VEVENT
END:VCALENDAR